BEGIN:VCALENDAR
PRODID:-//AT Content Types//AT Event//EN
VERSION:2.0
METHOD:PUBLISH
BEGIN:VEVENT
DTSTAMP:20260423T113815Z
CREATED:20250722T140556Z
UID:ATEvent-be255992afac488da5d3232939b9528a
LAST-MODIFIED:20250722T140556Z
SUMMARY:LCSDS Expert Reference Group
DTSTART:20251008T093000Z
DTEND:20251008T110000Z
DESCRIPTION:The second meeting of our regular ERG meetings. An agenda 
 will be issued prior to the meeting.
CLASS:PUBLIC
END:VEVENT
END:VCALENDAR
