BEGIN:VCALENDAR
PRODID:-//AT Content Types//AT Event//EN
VERSION:2.0
METHOD:PUBLISH
BEGIN:VEVENT
DTSTAMP:20260423T114346Z
CREATED:20250512T094153Z
UID:ATEvent-5fe5f515994c4438981608683b1bd156
LAST-MODIFIED:20250512T094701Z
SUMMARY:UKOA FACE TO FACE meeting for members on Tuesday 8th July
DTSTART:20250708T090000Z
DTEND:20250708T140000Z
DESCRIPTION:Our next face to face members meeting with a great variety
  of updates across Ophthalmology and one not to miss! See the agenda a
 ttached.
CLASS:PUBLIC
END:VEVENT
END:VCALENDAR
